BEGIN:VCALENDAR
VERSION:2.0
PRODID:-//histogen81 - ECPv6.15.18//NONSGML v1.0//EN
CALSCALE:GREGORIAN
METHOD:PUBLISH
X-WR-CALNAME:histogen81
X-ORIGINAL-URL:https://histogen81.fr
X-WR-CALDESC:Évènements pour histogen81
REFRESH-INTERVAL;VALUE=DURATION:PT1H
X-Robots-Tag:noindex
X-PUBLISHED-TTL:PT1H
BEGIN:VTIMEZONE
TZID:Europe/Paris
BEGIN:DAYLIGHT
TZOFFSETFROM:+0100
TZOFFSETTO:+0200
TZNAME:CEST
DTSTART:20250330T010000
END:DAYLIGHT
BEGIN:STANDARD
TZOFFSETFROM:+0200
TZOFFSETTO:+0100
TZNAME:CET
DTSTART:20251026T010000
END:STANDARD
BEGIN:DAYLIGHT
TZOFFSETFROM:+0100
TZOFFSETTO:+0200
TZNAME:CEST
DTSTART:20260329T010000
END:DAYLIGHT
BEGIN:STANDARD
TZOFFSETFROM:+0200
TZOFFSETTO:+0100
TZNAME:CET
DTSTART:20261025T010000
END:STANDARD
BEGIN:DAYLIGHT
TZOFFSETFROM:+0100
TZOFFSETTO:+0200
TZNAME:CEST
DTSTART:20270328T010000
END:DAYLIGHT
BEGIN:STANDARD
TZOFFSETFROM:+0200
TZOFFSETTO:+0100
TZNAME:CET
DTSTART:20271031T010000
END:STANDARD
END:VTIMEZONE
BEGIN:VEVENT
DTSTART;TZID=Europe/Paris:20260420T093000
DTEND;TZID=Europe/Paris:20260420T113000
DTSTAMP:20260419T145158
CREATED:20260401T095627Z
LAST-MODIFIED:20260401T095627Z
UID:6399-1776677400-1776684600@histogen81.fr
SUMMARY:Hérédis : Questions ? Réponses !
DESCRIPTION:Vous avez des questions quant à l’utilisation du logiciel Hérédis\, vous ne savez pas comment réaliser certains point de votre généalogie familiale.\nVenez participer à notre séance questions\, réponses que nous vous proposons le\nLundi 20 avril 2026 de 9h 30 à 11 h 30 à la Maison des Associations salle 204.\nVous pouvez venir avec votre ordinateur portable pour évoquer les questions ou les blocages que vous rencontrez.\nNotre équipe sera présente pour trouver avec vous la solution à votre problème. \nImportant : la séance est limitée à 8 participants maximum. N’hésitez pas à nous contacter pour vous inscrire le plus rapidement possible \nmail : histoge81@yahoo.fr ou téléphone : 06.11.08.21.49.
URL:https://histogen81.fr/evenement/heredis-questions-reponses/
LOCATION:Maison des Associations\, Place du 1er Mai\, CASTRES\, 81100\, France
CATEGORIES:Formation
ATTACH;FMTTYPE=image/jpeg:https://histogen81.fr/wp-content/uploads/2026/04/heredis.jpg
ORGANIZER;CN="Histoire & G%C3%A9n%C3%A9alogie":MAILTO:histogen81@yahoo.fr
END:VEVENT
BEGIN:VEVENT
DTSTART;TZID=Europe/Paris:20260504T100000
DTEND;TZID=Europe/Paris:20260504T120000
DTSTAMP:20260419T145158
CREATED:20260404T092119Z
LAST-MODIFIED:20260404T092119Z
UID:6405-1777888800-1777896000@histogen81.fr
SUMMARY:La Généalogie avec Hérédis
DESCRIPTION:Hérédis est un logiciel destiné a recueillir vous trouvailles généalogiques et constituer ainsi votre arbre familial. \nL’outil très complet dispose de nombreuses possibilités pour réaliser votre travail et dispose de multiples outils pour en faire la restitution. \nHistoire et Généalogie vous propose une séance de 2 heures pour aborder les principaux point utiles pour une utilisation optimisée. \nVous pouvez\, vous inscrire pour participer à cette session qui aura lieu le Lundi 4 mai de 10 h à midi\, salle 102 à la maison des associations de Castres.
URL:https://histogen81.fr/evenement/la-genealogie-avec-heredis/
LOCATION:Maison des Associations\, Place du 1er Mai\, CASTRES\, 81100\, France
CATEGORIES:Formation
ATTACH;FMTTYPE=image/jpeg:https://histogen81.fr/wp-content/uploads/2026/02/formation-genealogie.jpg
ORGANIZER;CN="Histoire & G%C3%A9n%C3%A9alogie":MAILTO:histogen81@yahoo.fr
END:VEVENT
END:VCALENDAR